BEGIN:VCALENDAR
VERSION:2.0
PRODID:-//Robotics Valley - ECPv6.15.20//NONSGML v1.0//EN
CALSCALE:GREGORIAN
METHOD:PUBLISH
X-ORIGINAL-URL:https://www.robotics-valley.eu
X-WR-CALDESC:Évènements pour Robotics Valley
REFRESH-INTERVAL;VALUE=DURATION:PT1H
X-Robots-Tag:noindex
X-PUBLISHED-TTL:PT1H
BEGIN:VTIMEZONE
TZID:Europe/Paris
BEGIN:DAYLIGHT
TZOFFSETFROM:+0100
TZOFFSETTO:+0200
TZNAME:CEST
DTSTART:20230326T010000
END:DAYLIGHT
BEGIN:STANDARD
TZOFFSETFROM:+0200
TZOFFSETTO:+0100
TZNAME:CET
DTSTART:20231029T010000
END:STANDARD
BEGIN:DAYLIGHT
TZOFFSETFROM:+0100
TZOFFSETTO:+0200
TZNAME:CEST
DTSTART:20240331T010000
END:DAYLIGHT
BEGIN:STANDARD
TZOFFSETFROM:+0200
TZOFFSETTO:+0100
TZNAME:CET
DTSTART:20241027T010000
END:STANDARD
BEGIN:DAYLIGHT
TZOFFSETFROM:+0100
TZOFFSETTO:+0200
TZNAME:CEST
DTSTART:20250330T010000
END:DAYLIGHT
BEGIN:STANDARD
TZOFFSETFROM:+0200
TZOFFSETTO:+0100
TZNAME:CET
DTSTART:20251026T010000
END:STANDARD
END:VTIMEZONE
BEGIN:VEVENT
DTSTART;TZID=Europe/Paris:20240221T090000
DTEND;TZID=Europe/Paris:20240221T120000
DTSTAMP:20260421T124451
CREATED:20240126T125540Z
LAST-MODIFIED:20240126T125540Z
UID:1539-1708506000-1708516800@www.robotics-valley.eu
SUMMARY:Matinée Technique : La sécurité fonctionnelle et son rôle dans le domaine de la sécurité machines
DESCRIPTION:Savez-vous que 72 % des industriels français engagés dans le Lean ont déjà amorcé leur transition digitale : le Lean digital n’est plus une option\, c’est le nouveau standard de performance.Chiffre extrait du baromètre Lean français (Apilean).   								\n				\n				\n				\n					L'alliance du Lean et du digital : rencontre entre culture d’amélioration et puissance technologique 				\n				\n				\n				\n									L’Usinerie Partners\, le Pôle Formation UIMM Bourgogne 21 – 71 et Robotics Valley proposent un Rendez-vous de l’industrie 5.0 sur le Lean digital. Des entreprises industrielles viendront témoigner de leur démarche digitale et de leur déclinaison opérationnelle\, accompagnées de leur porteur de solutions techniques. Ces cas concrets seront complétés par deux ateliers.  								\n				\n					\n		\n					\n		\n				\n						\n					\n			\n						\n				\n									 Date : mardi 16 juin Heure : 8h30 – 15h30 L’Usinerie : 44 quai Saint-Cosme 71100 Chalon-sur-Saône 								\n				\n				\n				\n									\n					\n						\n									Inscription\n					\n					\n				\n								\n				\n					\n		\n					\n		\n				\n						\n					\n			\n						\n				\n					Au programme				\n				\n				\n				\n									8h30 : accueil café8h50 : mot d’accueil9h : introduction interactive9h20 :Interviews  :Analyser les flux et cartographier les process existants Aerometal\, avec le Pôle Formation UIMM 21-71 et l’Usinerie PartnersMettre en place d’un outil Lean au service des processus RH Metso\, avec la solution PingflowGarantir une production synchronisée avec la demande des clients\, le concept du takt time AlstomConvertir les données ERP en planning intelligent pour booster la productivité Nextis en partenariat avec X-PlanAteliers : Diagnostiquer la performance grâce aux techniques Lean & digitales pour l’Industrie 5.0Solution Watsy et diagnostic par le Pôle formation UIMM 21-71La digitalisation des process : un accompagnement sur-mesure par l’Usinerie Partners12h30 : cocktail déjeunatoire – networking13h45 : Démonstrations au Pôle formation UIMM 21-7175 Grande rue Saint-Cosme – 71100 Chalon-sur-SaôneLean academy– Déployer un Lean 5.0 : L’homme comme levier de performance principal– Challenge Lean & Digital 5.0 : Le Lean comme accélérateur de performancePiloter la performance Lean 5.0 grâce aux outils digitaux (Pingflow)La matinée sera animée par Patrice Bouillot\, animateur spécialisé La Plume et le Micro.
URL:https://www.robotics-valley.eu/agenda/matinee-technique-la-securite-fonctionnelle-et-son-role-dans-le-domaine-de-la-securite-machines/
LOCATION:Pôle d’excellence en robotique\, 10\, allée André Bourland\, Dijon\, 21000\, France
CATEGORIES:Les journées techniques
ATTACH;FMTTYPE=image/png:https://www.robotics-valley.eu/wp-content/uploads/2024/01/Wieland.png
END:VEVENT
BEGIN:VEVENT
DTSTART;TZID=Europe/Paris:20240227T110000
DTEND;TZID=Europe/Paris:20240227T114500
DTSTAMP:20260421T124451
CREATED:20240123T104816Z
LAST-MODIFIED:20240123T104816Z
UID:1530-1709031600-1709034300@www.robotics-valley.eu
SUMMARY:Webinaire ShareABot
DESCRIPTION:Savez-vous que 72 % des industriels français engagés dans le Lean ont déjà amorcé leur transition digitale : le Lean digital n’est plus une option\, c’est le nouveau standard de performance.Chiffre extrait du baromètre Lean français (Apilean).   								\n				\n				\n				\n					L'alliance du Lean et du digital : rencontre entre culture d’amélioration et puissance technologique 				\n				\n				\n				\n									L’Usinerie Partners\, le Pôle Formation UIMM Bourgogne 21 – 71 et Robotics Valley proposent un Rendez-vous de l’industrie 5.0 sur le Lean digital. Des entreprises industrielles viendront témoigner de leur démarche digitale et de leur déclinaison opérationnelle\, accompagnées de leur porteur de solutions techniques. Ces cas concrets seront complétés par deux ateliers.  								\n				\n					\n		\n					\n		\n				\n						\n					\n			\n						\n				\n									 Date : mardi 16 juin Heure : 8h30 – 15h30 L’Usinerie : 44 quai Saint-Cosme 71100 Chalon-sur-Saône 								\n				\n				\n				\n									\n					\n						\n									Inscription\n					\n					\n				\n								\n				\n					\n		\n					\n		\n				\n						\n					\n			\n						\n				\n					Au programme				\n				\n				\n				\n									8h30 : accueil café8h50 : mot d’accueil9h : introduction interactive9h20 :Interviews  :Analyser les flux et cartographier les process existants Aerometal\, avec le Pôle Formation UIMM 21-71 et l’Usinerie PartnersMettre en place d’un outil Lean au service des processus RH Metso\, avec la solution PingflowGarantir une production synchronisée avec la demande des clients\, le concept du takt time AlstomConvertir les données ERP en planning intelligent pour booster la productivité Nextis en partenariat avec X-PlanAteliers : Diagnostiquer la performance grâce aux techniques Lean & digitales pour l’Industrie 5.0Solution Watsy et diagnostic par le Pôle formation UIMM 21-71La digitalisation des process : un accompagnement sur-mesure par l’Usinerie Partners12h30 : cocktail déjeunatoire – networking13h45 : Démonstrations au Pôle formation UIMM 21-7175 Grande rue Saint-Cosme – 71100 Chalon-sur-SaôneLean academy– Déployer un Lean 5.0 : L’homme comme levier de performance principal– Challenge Lean & Digital 5.0 : Le Lean comme accélérateur de performancePiloter la performance Lean 5.0 grâce aux outils digitaux (Pingflow)La matinée sera animée par Patrice Bouillot\, animateur spécialisé La Plume et le Micro.
URL:https://www.robotics-valley.eu/agenda/webinaire-shareabot/
CATEGORIES:Les Webinaires
ATTACH;FMTTYPE=image/png:https://www.robotics-valley.eu/wp-content/uploads/2024/01/Webinaire-SHAREABOT.png
END:VEVENT
END:VCALENDAR