BEGIN:VCALENDAR
VERSION:2.0
PRODID:-//Robotics Valley - ECPv6.15.20//NONSGML v1.0//EN
CALSCALE:GREGORIAN
METHOD:PUBLISH
X-WR-CALNAME:Robotics Valley
X-ORIGINAL-URL:https://www.robotics-valley.eu
X-WR-CALDESC:Évènements pour Robotics Valley
REFRESH-INTERVAL;VALUE=DURATION:PT1H
X-Robots-Tag:noindex
X-PUBLISHED-TTL:PT1H
BEGIN:VTIMEZONE
TZID:Europe/Paris
BEGIN:DAYLIGHT
TZOFFSETFROM:+0100
TZOFFSETTO:+0200
TZNAME:CEST
DTSTART:20240331T010000
END:DAYLIGHT
BEGIN:STANDARD
TZOFFSETFROM:+0200
TZOFFSETTO:+0100
TZNAME:CET
DTSTART:20241027T010000
END:STANDARD
BEGIN:DAYLIGHT
TZOFFSETFROM:+0100
TZOFFSETTO:+0200
TZNAME:CEST
DTSTART:20250330T010000
END:DAYLIGHT
BEGIN:STANDARD
TZOFFSETFROM:+0200
TZOFFSETTO:+0100
TZNAME:CET
DTSTART:20251026T010000
END:STANDARD
BEGIN:DAYLIGHT
TZOFFSETFROM:+0100
TZOFFSETTO:+0200
TZNAME:CEST
DTSTART:20260329T010000
END:DAYLIGHT
BEGIN:STANDARD
TZOFFSETFROM:+0200
TZOFFSETTO:+0100
TZNAME:CET
DTSTART:20261025T010000
END:STANDARD
END:VTIMEZONE
BEGIN:VEVENT
DTSTART;TZID=Europe/Paris:20251211T173000
DTEND;TZID=Europe/Paris:20251211T193000
DTSTAMP:20260420T134513
CREATED:20251016T080942Z
LAST-MODIFIED:20251029T081423Z
UID:3462-1765474200-1765481400@www.robotics-valley.eu
SUMMARY:Club Industrie 4.0 : Plongée au cœur de l’IA agentique
DESCRIPTION:📅 Jeudi 11 décembre 2025 \n Horaires : 17h30 \n📍 Pôle d’Excellence en Robotique\, 10 allée André Bourland\, Dijon \n  \nL’UIMM Côte-d’Or et Robotics Valley vous invitent à explorer un sujet émergent qui redéfinit déjà la production industrielle : l’IA agentique. \nCette nouvelle génération d’intelligence artificielle ne se contente plus d’analyser les données. \nElle agit de façon autonome\, apprend de l’expérience et collabore avec d’autres systèmes pour optimiser la production\, la logistique ou la maintenance. \nIntervenant : Alexis Martinot\, co-fondateur d’Intellectuality \nIl partagera des cas concrets\, des retours d’expérience et les leviers clés pour réussir la mise en œuvre de ces technologies dans l’industrie. \n  \nAu programme : \n\nIA agentique : des systèmes capables de percevoir\, décider et agir seuls.\nCas d’usage : maintenance prédictive\, logistique autonome\, cobots adaptatifs.\nPassage à l’action : outils\, données et compétences pour démarrer.\n\n  \nRéservé aux adhérents UIMM Côte-d’Or & Robotics Valley \nCliquez ici pour vous inscrire en ligne
URL:https://www.robotics-valley.eu/agenda/club-industrie-4-0-plongee-au-coeur-de-lia-agentique/
CATEGORIES:Evénements,Les clubs industrie 4.0
ATTACH;FMTTYPE=image/png:https://www.robotics-valley.eu/wp-content/uploads/2025/10/TEMPLATES-evenements-5-Evnmt-LK-CI40-plongee-au-coeur-de-lia-agentique.png
END:VEVENT
END:VCALENDAR